BEGIN:VCALENDAR
PRODID:-//github.com/rianjs/ical.net//NONSGML ical.net 4.0//EN
VERSION:2.0
BEGIN:VEVENT
DTEND:20260423T160000
DTSTAMP:20260425T162036Z
DTSTART:20260423T083000
LOCATION:Emirates - Old Trafford Manchester
SEQUENCE:0
SUMMARY:HAUC(UK) at 40: Enabling Future Foundations
UID:0af059fc-ef27-4832-b678-0d5935472322
X-ALT-DESC;FMTTYPE=text/html:\n          Emirates\, Old Trafford\, Manches
 ter\n
END:VEVENT
END:VCALENDAR
