BEGIN:VCALENDAR
PRODID:-//github.com/rianjs/ical.net//NONSGML ical.net 4.0//EN
VERSION:2.0
BEGIN:VEVENT
DTEND:20260519T160000
DTSTAMP:20260425T175753Z
DTSTART:20260519T093000
LOCATION:NEC Birmingham
SEQUENCE:0
SUMMARY:Utility Week Live
UID:c0a7d936-40ff-4dbe-b438-b51395a91ab5
X-ALT-DESC;FMTTYPE=text/html:\n          NEC Birmingham\n
END:VEVENT
END:VCALENDAR
