BEGIN:VCALENDAR
PRODID:-//github.com/rianjs/ical.net//NONSGML ical.net 4.0//EN
VERSION:2.0
BEGIN:VEVENT
DTEND:20260520T184251
DTSTAMP:20260425T175752Z
DTSTART:20260520T184251
LOCATION:CBS Arena\, Coventry
SEQUENCE:0
SUMMARY:Traffex 2026
UID:7ec25186-5c13-424e-abf8-07ba7ec47ee8
X-ALT-DESC;FMTTYPE=text/html:\n          CBS Arena\, Coventry\n
END:VEVENT
END:VCALENDAR
