BEGIN:VCALENDAR
PRODID:-//github.com/rianjs/ical.net//NONSGML ical.net 4.0//EN
VERSION:2.0
BEGIN:VEVENT
DTEND:20260521T160000
DTSTAMP:20260425T163306Z
DTSTART:20260521T100000
LOCATION:Leicester Tigers\, Aylestone Rd\, Leicester LE2 7TR
SEQUENCE:0
SUMMARY:Connecting People and Places
UID:7f89988e-c16b-42fb-b723-2b578606ff3e
X-ALT-DESC;FMTTYPE=text/html:\n          Leicester Tigers\, Aylestone Rd\,
  Leicester LE2 7TR\n
END:VEVENT
END:VCALENDAR
