BEGIN:VCALENDAR
PRODID:-//github.com/rianjs/ical.net//NONSGML ical.net 4.0//EN
VERSION:2.0
BEGIN:VEVENT
DTEND:20260528T171251
DTSTAMP:20260425T162145Z
DTSTART:20260528T171251
LOCATION:London\, De Vere Grand
SEQUENCE:0
SUMMARY:Sustainable and Resilient Highways
UID:e1ed89f0-21f5-4f01-a75e-f0154922906d
X-ALT-DESC;FMTTYPE=text/html:\n          London\, De Vere Grand\n
END:VEVENT
END:VCALENDAR
