BEGIN:VCALENDAR
PRODID:-//github.com/rianjs/ical.net//NONSGML ical.net 4.0//EN
VERSION:2.0
BEGIN:VEVENT
DTEND:20260603T170000
DTSTAMP:20260425T163121Z
DTSTART:20260603T090000
LOCATION:Brooklands Museum\, Weybridge KT13 0SL
SEQUENCE:0
SUMMARY:Presidential Conference 2026
UID:872609f2-5098-4184-91dc-8dd541211197
X-ALT-DESC;FMTTYPE=text/html:\n          Brooklands Museum\, Weybridge.\n
END:VEVENT
END:VCALENDAR
