BEGIN:VCALENDAR
PRODID:-//github.com/rianjs/ical.net//NONSGML ical.net 4.0//EN
VERSION:2.0
BEGIN:VEVENT
DTEND:20260604T171251
DTSTAMP:20260425T163121Z
DTSTART:20260604T171251
LOCATION:Scotland\, Perth Racecourse
SEQUENCE:0
SUMMARY:Sustainable and Resilient Highways
UID:62c5928f-f257-480c-bdcb-396db0f5e129
X-ALT-DESC;FMTTYPE=text/html:\n          Scotland\, Perth Racecourse\n
END:VEVENT
END:VCALENDAR
