BEGIN:VCALENDAR
PRODID:-//github.com/rianjs/ical.net//NONSGML ical.net 4.0//EN
VERSION:2.0
BEGIN:VEVENT
DTEND:20260609T160000
DTSTAMP:20260425T162145Z
DTSTART:20260609T090000
LOCATION:Hilton Hotel at St George’s Park\, Burton-On-Trent
SEQUENCE:0
SUMMARY:National Damage Prevention Day 2026
UID:0244ea6b-fe74-4ed6-8d78-e5b2b4fee1b8
END:VEVENT
END:VCALENDAR
