BEGIN:VCALENDAR
PRODID:-//github.com/rianjs/ical.net//NONSGML ical.net 4.0//EN
VERSION:2.0
BEGIN:VEVENT
DTEND:20260616T171251
DTSTAMP:20260425T162933Z
DTSTART:20260616T171251
LOCATION:Antrim\, Dunadry Hotel and Gardens
SEQUENCE:0
SUMMARY:Sustainable and Resilient Highways
UID:57710f8d-fdb6-457d-ba2a-84dae0bf535a
X-ALT-DESC;FMTTYPE=text/html:\n          Antrim\, Dunadry Hotel and Garden
 s\n
END:VEVENT
END:VCALENDAR
