BEGIN:VCALENDAR
PRODID:-//github.com/rianjs/ical.net//NONSGML ical.net 4.0//EN
VERSION:2.0
BEGIN:VEVENT
DTEND:20260624T171251
DTSTAMP:20260425T163149Z
DTSTART:20260624T171251
LOCATION:Kenilworth\, UK
SEQUENCE:0
SUMMARY:Innovation and Learning Festival 2026
UID:d991f4f9-07dc-460d-952c-e847dc298146
X-ALT-DESC;FMTTYPE=text/html:\n          Kenilworth\n
END:VEVENT
END:VCALENDAR
