BEGIN:VCALENDAR
PRODID:-//github.com/rianjs/ical.net//NONSGML ical.net 4.0//EN
VERSION:2.0
BEGIN:VEVENT
DTEND:20260709T171251
DTSTAMP:20260425T163048Z
DTSTART:20260709T171251
LOCATION:Birmingham\, Macdonald Burlington Hotel
SEQUENCE:0
SUMMARY:Sustainable and Resilient Highways
UID:bdada630-87c4-4075-b8d7-d2e2a90c9237
X-ALT-DESC;FMTTYPE=text/html:\n          Birmingham\, Macdonald Burlington
  Hotel\n
END:VEVENT
END:VCALENDAR
