BEGIN:VCALENDAR
PRODID:-//github.com/rianjs/ical.net//NONSGML ical.net 4.0//EN
VERSION:2.0
BEGIN:VEVENT
DTEND:20260903T171251
DTSTAMP:20260425T162037Z
DTSTART:20260903T171251
LOCATION:House of Commons Terrace Pavilion
SEQUENCE:0
SUMMARY:Street Works - UK Awards 2026
UID:6c207ccf-dc57-47c0-accc-d63e669cdafa
END:VEVENT
END:VCALENDAR
