BEGIN:VCALENDAR
PRODID:-//github.com/rianjs/ical.net//NONSGML ical.net 4.0//EN
VERSION:2.0
BEGIN:VEVENT
DTEND:20260910T150000
DTSTAMP:20260425T175753Z
DTSTART:20260910T093000
LOCATION:Parkgate Hotel\, Cardiff
SEQUENCE:0
SUMMARY:Highways Live
UID:a1deaf86-0ce3-4bb2-8099-2d0de86b5eb2
X-ALT-DESC;FMTTYPE=text/html:\n          Parkgate Hotel\, Cardiff\n
END:VEVENT
END:VCALENDAR
