BEGIN:VCALENDAR
PRODID:-//github.com/rianjs/ical.net//NONSGML ical.net 4.0//EN
VERSION:2.0
BEGIN:VEVENT
DTEND:20261104T180000
DTSTAMP:20260425T162036Z
DTSTART:20261104T123000
LOCATION:InterContinental\, Park Lane\, London.
SEQUENCE:0
SUMMARY:Highway Magazine
UID:63c65454-3584-434b-9dc0-c9b8a70f4676
END:VEVENT
END:VCALENDAR
