BEGIN:VCALENDAR
PRODID:-//github.com/rianjs/ical.net//NONSGML ical.net 4.0//EN
VERSION:2.0
BEGIN:VEVENT
DTEND:20261203T234251
DTSTAMP:20260425T225204Z
DTSTART:20261203T234251
LOCATION:Hilton Birmingham Metropole
SEQUENCE:0
SUMMARY:2026 Street Works UK Conference
UID:0f5d4fa7-bfff-4651-b581-0f9b06feff04
END:VEVENT
END:VCALENDAR
